BEGIN:VCALENDAR
VERSION:2.0
PRODID:icalendar-ruby
CALSCALE:GREGORIAN
METHOD:PUBLISH
BEGIN:VEVENT
DTSTAMP:20260423T235143Z
UID:61-1780@firstunitedchurch.ca
DTSTART:20210221T190000Z
DTEND:20210221T203000Z
CLASS:PUBLIC
CREATED:20210215T100810
DESCRIPTION:Please register here in advance for this meeting. In the case o
 f couples or families\, only one registration is required\, but please pro
 vide all the names of people planning to attend.\n \nAfter registering\, 
 you will receive a confirmation email. It is important that you keep this 
 email\, as it contains the link for joining the meeting. A copy of the con
 firmation email will also be resent to you before the meeting.\nThe Annual
  Meeting Agenda and Annual Report are available here on the church website
 .\nIf you require technical assistance with registration or have questions
  about the process\, please send an E-Mail to john.lindsay67@rogers.com
LAST-MODIFIED:20210215T100810
LOCATION:Zoom
SUMMARY:Annual Meeting - Registration Required
URL;VALUE=URI:https://www.firstunitedchurch.ca/events/annual-meeting-regist
 ration-required/2021-02-21
END:VEVENT
END:VCALENDAR
